BEGIN:VCALENDAR
VERSION:2.0
METHOD:PUBLISH
BEGIN:VTIMEZONE
TZID:Europe/Istanbul
LAST-MODIFIED:20260421T030853Z
X-LIC-LOCATION:Europe/Istanbul
BEGIN:STANDARD
TZNAME:+03
TZOFFSETFROM:+0300
TZOFFSETTO:+0300
DTSTART:19700101T000000
END:STANDARD
END:VTIMEZONE
BEGIN:VEVENT
DTSTART;TZID=Europe/Istanbul:20260420T103000
DTEND;TZID=Europe/Istanbul:20260420T123000
LOCATION:YDYO Konferans Salonu
TRANSP: OPAQUE
SEQUENCE:0
UID:
DTSTAMP:20260421T030853Z
SUMMARY:Aras Kargo ile Kariyer Adımları (Yiğitcan Bozoğlu ve Aras Kargo İnsan Kaynakları & İşe Alım Ekibi)
DESCRIPTION:Girişimcilik ve İnovasyon Kulübü tarafından düzenlenen etkinlik kapsamında,20 Nisan Pazartesi günü saat 10:30’da, YDYO Konferans Salonu’nda Yiğitcan Bozoğlu ve Aras Kargo İnsan Kaynakları & İşe Alım Ekibini ağırlıyoruz.Etkinlikte, lojistik sektörüne dair güncel gelişmeler, kariyer fırsatları ve sektörde insan kaynağı beklentileri ele alınacak; katılımcılara ilham verici bir deneyim sunulacaktır.Ayrıca etkinliğe özel sürprizler de yer alacaktır.Tüm öğrencilerimiz davetlidir.
PRIORITY:1
CLASS:PUBLIC
BEGIN:VALARM
TRIGGER:-PT10080M
ACTION:DISPLAY
DESCRIPTION:Reminder
END:VALARM
END:VEVENT
END:VCALENDAR